BEGIN:VCALENDAR
VERSION:2.0
PRODID:-//Kornbrennerei Gerbermann
CALSCALE:GREGORIAN
METHOD:PUBLISH
X-WR-CALNAME:Kornbrennerei Gerbermann
X-ORIGINAL-URL:https://www.gerbermann.com/shop/events/kommen-sie-doch-mal-mit-dem-fahrrad-vorbei/kommen-sie-doch-mal-mit-dem-fahrrad-vorbei-6/
X-WR-CALDESC:Kommen Sie doch mal mit dem Fahrrad vorbei!
BEGIN:VEVENT
DTSTART;TZID=Europe/Helsinki:20260618T160000
DTEND;TZID=Europe/Helsinki:20260618T170000
SUMMARY:Kommen Sie doch mal mit dem Fahrrad vorbei!
DESCRIPTION:
URL:https://www.gerbermann.com/shop/events/kommen-sie-doch-mal-mit-dem-fahrrad-vorbei/kommen-sie-doch-mal-mit-dem-fahrrad-vorbei-6/
LOCATION:Püning 11, 48351 Everswinkel
END:VEVENT
END:VCALENDAR
